BEGIN:VCALENDAR
VERSION:2.0
PRODID:-//International Water Resources Association - ECPv6.15.19//NONSGML v1.0//EN
CALSCALE:GREGORIAN
METHOD:PUBLISH
X-WR-CALNAME:International Water Resources Association
X-ORIGINAL-URL:https://www.iwra.org
X-WR-CALDESC:Events for International Water Resources Association
REFRESH-INTERVAL;VALUE=DURATION:PT1H
X-Robots-Tag:noindex
X-PUBLISHED-TTL:PT1H
BEGIN:VTIMEZONE
TZID:Europe/Paris
BEGIN:DAYLIGHT
TZOFFSETFROM:+0100
TZOFFSETTO:+0200
TZNAME:CEST
DTSTART:20200329T010000
END:DAYLIGHT
BEGIN:STANDARD
TZOFFSETFROM:+0200
TZOFFSETTO:+0100
TZNAME:CET
DTSTART:20201025T010000
END:STANDARD
BEGIN:DAYLIGHT
TZOFFSETFROM:+0100
TZOFFSETTO:+0200
TZNAME:CEST
DTSTART:20210328T010000
END:DAYLIGHT
BEGIN:STANDARD
TZOFFSETFROM:+0200
TZOFFSETTO:+0100
TZNAME:CET
DTSTART:20211031T010000
END:STANDARD
BEGIN:DAYLIGHT
TZOFFSETFROM:+0100
TZOFFSETTO:+0200
TZNAME:CEST
DTSTART:20220327T010000
END:DAYLIGHT
BEGIN:STANDARD
TZOFFSETFROM:+0200
TZOFFSETTO:+0100
TZNAME:CET
DTSTART:20221030T010000
END:STANDARD
END:VTIMEZONE
BEGIN:VEVENT
DTSTART;VALUE=DATE:20211129
DTEND;VALUE=DATE:20211204
DTSTAMP:20260420T114835
CREATED:20190826T135609Z
LAST-MODIFIED:20210318T100851Z
UID:5514-1638144000-1638575999@www.iwra.org
SUMMARY:IWRA's XVII World Water Congress
DESCRIPTION:Foundations for Global Water Security and Resilience: Knowledge\, Technology and Policy \nIWRA organises and supports international water congresses and events related to advancing water resources knowledge\, policy and management around the world. Since 1973\, IWRA has held a World Water Congress every three years in various locations around the world. \nThe objective of the World Water Congress is to provide a meeting place to share experiences\, promote discussion\, and to present new knowledge\, research results and new developments in the field of water sciences around the world. For almost four decades the World Water Congresses have been excellent events for the identification of major global themes concerning the water agenda\, and for the bringing together of a large cross-section of stakeholders for the development and implementation of decisions in the field of water. \nLearn much more about the XVII World Water Congress by clicking in the titles below: \n\nIWRA’s XVII World Water Congress\n\nWelcome Messages\nOverview\nCongress Themes\nPublications\nGovernance and Committees\n\n\nProgramme\nParticipation\nExhibition and Sponsorship\nAccommodation\nTransportation\nVenue\nMuch more\n\nIWRA looks forward to seeing you and participating in Daegu in November in 2021!
URL:https://www.iwra.org/event/xvii-world-water-congress/
LOCATION:Daegu Metropolitan City\, Korea\, Republic of
END:VEVENT
END:VCALENDAR