BEGIN:VCALENDAR
VERSION:2.0
PRODID:-//International Water Resources Association - ECPv6.15.19//NONSGML v1.0//EN
CALSCALE:GREGORIAN
METHOD:PUBLISH
X-ORIGINAL-URL:https://www.iwra.org
X-WR-CALDESC:Events for International Water Resources Association
REFRESH-INTERVAL;VALUE=DURATION:PT1H
X-Robots-Tag:noindex
X-PUBLISHED-TTL:PT1H
BEGIN:VTIMEZONE
TZID:Europe/Paris
BEGIN:DAYLIGHT
TZOFFSETFROM:+0100
TZOFFSETTO:+0200
TZNAME:CEST
DTSTART:20190331T010000
END:DAYLIGHT
BEGIN:STANDARD
TZOFFSETFROM:+0200
TZOFFSETTO:+0100
TZNAME:CET
DTSTART:20191027T010000
END:STANDARD
BEGIN:DAYLIGHT
TZOFFSETFROM:+0100
TZOFFSETTO:+0200
TZNAME:CEST
DTSTART:20200329T010000
END:DAYLIGHT
BEGIN:STANDARD
TZOFFSETFROM:+0200
TZOFFSETTO:+0100
TZNAME:CET
DTSTART:20201025T010000
END:STANDARD
BEGIN:DAYLIGHT
TZOFFSETFROM:+0100
TZOFFSETTO:+0200
TZNAME:CEST
DTSTART:20210328T010000
END:DAYLIGHT
BEGIN:STANDARD
TZOFFSETFROM:+0200
TZOFFSETTO:+0100
TZNAME:CET
DTSTART:20211031T010000
END:STANDARD
END:VTIMEZONE
BEGIN:VEVENT
DTSTART;VALUE=DATE:20200508
DTEND;VALUE=DATE:20200510
DTSTAMP:20260419T165654
CREATED:20200212T133441Z
LAST-MODIFIED:20200212T133441Z
UID:6745-1588896000-1589068799@www.iwra.org
SUMMARY:11th Edition of CSR Leadership Summit
DESCRIPTION:The 11th edition of CSR Leadership Summit\, India CSR’s flagship annual event and Country’s most prominent gettogether of corporates and civil society is here! \nDesigned for leaders from Business\, Government and Civil Society\, the eclectic and thought-provoking platform will be open to ideas\, vision and experiences on achieving Sustainable Development Goals (SDGs). \nThe Summit is planned on May 8-9\, 2020 in Mumbai. More than 600 CSR and Nonprofit leaders are expected to join the event \n\nTo nominate Speaker\, click here\nFor interest in sponsorship\, click here\nFor exhibiting at the event\, click here
URL:https://www.iwra.org/event/11th-edition-of-csr-leadership-summit/
LOCATION:Mumbai\, India
END:VEVENT
END:VCALENDAR