BEGIN:VCALENDAR
VERSION:2.0
PRODID:-//International Water Resources Association - ECPv6.15.19//NONSGML v1.0//EN
CALSCALE:GREGORIAN
METHOD:PUBLISH
X-ORIGINAL-URL:https://www.iwra.org
X-WR-CALDESC:Events for International Water Resources Association
REFRESH-INTERVAL;VALUE=DURATION:PT1H
X-Robots-Tag:noindex
X-PUBLISHED-TTL:PT1H
BEGIN:VTIMEZONE
TZID:Europe/Paris
BEGIN:DAYLIGHT
TZOFFSETFROM:+0100
TZOFFSETTO:+0200
TZNAME:CEST
DTSTART:20180325T010000
END:DAYLIGHT
BEGIN:STANDARD
TZOFFSETFROM:+0200
TZOFFSETTO:+0100
TZNAME:CET
DTSTART:20181028T010000
END:STANDARD
BEGIN:DAYLIGHT
TZOFFSETFROM:+0100
TZOFFSETTO:+0200
TZNAME:CEST
DTSTART:20190331T010000
END:DAYLIGHT
BEGIN:STANDARD
TZOFFSETFROM:+0200
TZOFFSETTO:+0100
TZNAME:CET
DTSTART:20191027T010000
END:STANDARD
BEGIN:DAYLIGHT
TZOFFSETFROM:+0100
TZOFFSETTO:+0200
TZNAME:CEST
DTSTART:20200329T010000
END:DAYLIGHT
BEGIN:STANDARD
TZOFFSETFROM:+0200
TZOFFSETTO:+0100
TZNAME:CET
DTSTART:20201025T010000
END:STANDARD
END:VTIMEZONE
BEGIN:VEVENT
DTSTART;VALUE=DATE:20190513
DTEND;VALUE=DATE:20190515
DTSTAMP:20260421T014044
CREATED:20190214T162117Z
LAST-MODIFIED:20190214T162117Z
UID:4602-1557705600-1557878399@www.iwra.org
SUMMARY:UNESCO International Water Conference
DESCRIPTION:The UNESCO International Water Conference aims to advance sustainable water security and peace by leveraging intersectoral management of water resources. \nLooking from space\, satellite imagery shows the abundant masses of water that characterize the Earth. Yet\, less than 1% account for usable fresh water. \nAlmost all human activities depend on water\, be it food production\, energy generation\, industry or even recreation. Water management and governance affect the health of humans and ecosystems\, and reflect the conditions of gender equality\, education and cultural diversity of a region. Water resources are critical to sustainable development and poverty reduction. \nOnce more\, UNESCO brings together its actors and partners to share innovative solutions to contemporary challenges. Thanks to its experience and expertise in the fields of Education\, Sciences (both natural\, and social and human sciences)\, Culture and Communication\, UNESCO contributes through holistic\, sustainable approaches to resolve issues impacting the governance and management of water. \nThe UNESCO International Water Conference aims to advance sustainable water security and peace by leveraging intersectoral management of water resources. \nObjectives of the conference: \n– Bring everyone around the table to discuss intersectoral approaches to the governance and management of water resources. \n– Launch a Call for Action to foster\, embrace\, and adopt intersectoral water management. \n– Share good practices enabling participation\, transparency and information-sharing. \n– Give evidence of the importance of interdisciplinarity and the integration of sciences to support Member States in reaching the goals of the water-related international agendas.
URL:https://www.iwra.org/event/unesco-international-water-conference/
LOCATION:Paris\, France
END:VEVENT
BEGIN:VEVENT
DTSTART;VALUE=DATE:20190513
DTEND;VALUE=DATE:20190518
DTSTAMP:20260421T014044
CREATED:20190214T162333Z
LAST-MODIFIED:20190214T162333Z
UID:4605-1557705600-1558137599@www.iwra.org
SUMMARY:Global Platform for Disaster Risk Reduction
DESCRIPTION:The sixth session of the Global Platform for Disaster Risk Reduction (GP2019) will take place in Geneva\, Switzerland from 13 to 17 May\, 2019\, convened and organized by the UN Office for Disaster Risk Reduction (UNISDR) and hosted by the Government of Switzerland. The session will be co-chaired by Switzerland and UNISDR. It will represent the next important opportunity for the international community to boost the implementation of the Sendai Framework related goals of the 2030 Agenda\, as well as commitments of the Paris Climate Agreement. It is also the last global gathering for all stakeholders before the deadline for achieving Target E of the Sendai Framework: to substantially increase the number of countries with national and local disaster risk reduction strategies by 2020.
URL:https://www.iwra.org/event/global-platform-for-disaster-risk-reduction/
LOCATION:Geneva\, Switzerland
END:VEVENT
END:VCALENDAR