BEGIN:VCALENDAR
VERSION:2.0
PRODID:-//International Water Resources Association - ECPv6.15.19//NONSGML v1.0//EN
CALSCALE:GREGORIAN
METHOD:PUBLISH
X-ORIGINAL-URL:https://www.iwra.org
X-WR-CALDESC:Events for International Water Resources Association
REFRESH-INTERVAL;VALUE=DURATION:PT1H
X-Robots-Tag:noindex
X-PUBLISHED-TTL:PT1H
BEGIN:VTIMEZONE
TZID:Europe/Paris
BEGIN:DAYLIGHT
TZOFFSETFROM:+0100
TZOFFSETTO:+0200
TZNAME:CEST
DTSTART:20180325T010000
END:DAYLIGHT
BEGIN:STANDARD
TZOFFSETFROM:+0200
TZOFFSETTO:+0100
TZNAME:CET
DTSTART:20181028T010000
END:STANDARD
BEGIN:DAYLIGHT
TZOFFSETFROM:+0100
TZOFFSETTO:+0200
TZNAME:CEST
DTSTART:20190331T010000
END:DAYLIGHT
BEGIN:STANDARD
TZOFFSETFROM:+0200
TZOFFSETTO:+0100
TZNAME:CET
DTSTART:20191027T010000
END:STANDARD
BEGIN:DAYLIGHT
TZOFFSETFROM:+0100
TZOFFSETTO:+0200
TZNAME:CEST
DTSTART:20200329T010000
END:DAYLIGHT
BEGIN:STANDARD
TZOFFSETFROM:+0200
TZOFFSETTO:+0100
TZNAME:CET
DTSTART:20201025T010000
END:STANDARD
END:VTIMEZONE
BEGIN:VEVENT
DTSTART;VALUE=DATE:20190401
DTEND;VALUE=DATE:20190405
DTSTAMP:20260424T105515
CREATED:20190214T154823Z
LAST-MODIFIED:20190214T154823Z
UID:4590-1554076800-1554422399@www.iwra.org
SUMMARY:Latinosan - 5th Latin American Conference on Sanitation
DESCRIPTION:
URL:https://www.iwra.org/event/latinosan-5th-latin-american-conference-on-sanitation/
LOCATION:Centro de Convenciones de Costa Rica\, Costa Rica
END:VEVENT
BEGIN:VEVENT
DTSTART;VALUE=DATE:20190401
DTEND;VALUE=DATE:20190406
DTSTAMP:20260424T105515
CREATED:20190314T145047Z
LAST-MODIFIED:20190314T145047Z
UID:4883-1554076800-1554508799@www.iwra.org
SUMMARY:81st African Water Association Scientific and Technical Council Meeting
DESCRIPTION:
URL:https://www.iwra.org/event/81st-african-water-association-scientific-and-technical-council-meeting/
LOCATION:Rabat\, Morocco
END:VEVENT
BEGIN:VEVENT
DTSTART;VALUE=DATE:20190402
DTEND;VALUE=DATE:20190405
DTSTAMP:20260424T105515
CREATED:20190314T145412Z
LAST-MODIFIED:20190314T145412Z
UID:4886-1554163200-1554422399@www.iwra.org
SUMMARY:World Bank Group’s Water Global Practice Water Week
DESCRIPTION:
URL:https://www.iwra.org/event/world-bank-groups-water-global-practice-water-week/
LOCATION:Washington\, United States
END:VEVENT
BEGIN:VEVENT
DTSTART;VALUE=DATE:20190404
DTEND;VALUE=DATE:20190406
DTSTAMP:20260424T105515
CREATED:20190214T155050Z
LAST-MODIFIED:20190214T155050Z
UID:4593-1554336000-1554508799@www.iwra.org
SUMMARY:SWA Sector Ministers' Meeting
DESCRIPTION:WASHing away inequalities: partnering to finance and achieve the water\, sanitation and hygiene targets of the Sustainable Development Goals\nThe upcoming SWA Sector Ministers’ Meeting (SMM) will be convened in San Jose\, Costa Rica\, on 4-5 April 2019 to support the achievement of the water\, sanitation and hygiene-related targets of the Sustainable Development Goals. It will be held the days after LatinoSan. \nIt will bring together ministers responsible for water\, sanitation and hygiene and senior government officials from different regions and development levels\, as well as leaders from other stakeholders\, including civil society\, private sector\, donors\, development banks\, UN agencies and academia. \nUnique in the sector\, the SMMs are the culmination of robust ongoing strategic dialogue at country level\, involving multiple stakeholders bound together by the belief that good governance and mutual accountability are key to achieve water and sanitation for all\, always and everywhere.
URL:https://www.iwra.org/event/swa-sector-ministers-meeting/
LOCATION:San Jose\, Costa Rica
END:VEVENT
END:VCALENDAR