BEGIN:VCALENDAR
VERSION:2.0
PRODID:-//International Water Resources Association - ECPv6.15.19//NONSGML v1.0//EN
CALSCALE:GREGORIAN
METHOD:PUBLISH
X-ORIGINAL-URL:https://www.iwra.org
X-WR-CALDESC:Events for International Water Resources Association
REFRESH-INTERVAL;VALUE=DURATION:PT1H
X-Robots-Tag:noindex
X-PUBLISHED-TTL:PT1H
BEGIN:VTIMEZONE
TZID:Europe/Paris
BEGIN:DAYLIGHT
TZOFFSETFROM:+0100
TZOFFSETTO:+0200
TZNAME:CEST
DTSTART:20180325T010000
END:DAYLIGHT
BEGIN:STANDARD
TZOFFSETFROM:+0200
TZOFFSETTO:+0100
TZNAME:CET
DTSTART:20181028T010000
END:STANDARD
BEGIN:DAYLIGHT
TZOFFSETFROM:+0100
TZOFFSETTO:+0200
TZNAME:CEST
DTSTART:20190331T010000
END:DAYLIGHT
BEGIN:STANDARD
TZOFFSETFROM:+0200
TZOFFSETTO:+0100
TZNAME:CET
DTSTART:20191027T010000
END:STANDARD
BEGIN:DAYLIGHT
TZOFFSETFROM:+0100
TZOFFSETTO:+0200
TZNAME:CEST
DTSTART:20200329T010000
END:DAYLIGHT
BEGIN:STANDARD
TZOFFSETFROM:+0200
TZOFFSETTO:+0100
TZNAME:CET
DTSTART:20201025T010000
END:STANDARD
END:VTIMEZONE
BEGIN:VEVENT
DTSTART;VALUE=DATE:20190322
DTEND;VALUE=DATE:20190326
DTSTAMP:20260424T124731
CREATED:20181227T163152Z
LAST-MODIFIED:20181227T163152Z
UID:4316-1553212800-1553558399@www.iwra.org
SUMMARY:VACI 2019 - Vietnam International Water Week
DESCRIPTION:  \nVietnam wAter Cooperation Initiative (VACI) is the global platform to share and co-create innovative water solutions with particular emphasis on Vietnam and tropical water issues. Under auspice of Ministry of Natural Resources and Environment (MONRE)-the Ministry responsible for water management in Vietnam\, VACI has been growing since 2012 and brings together thought leaders who are pioneering new solutions; it uncovers new scientific findings and technological breakthroughs that could be transformative for the water industry; it connects the world’s leading companies and water professionals working in water sector. Uniquely\, it attracts decision makers across the entire water value chain that allows global water industry to collaborate on local business opportunities in Vietnam and the region. \nFind more details of the the event and registration for participant\, speaker\, exhibitors/sponsors\, session proposals\, visitors\, etc. at https://viww.vaci.org.vn/2019
URL:https://www.iwra.org/event/vaci2019/
LOCATION:Hanoi\, Viet Nam
END:VEVENT
END:VCALENDAR