BEGIN:VCALENDAR
VERSION:2.0
PRODID:-//International Water Resources Association - ECPv6.15.19//NONSGML v1.0//EN
CALSCALE:GREGORIAN
METHOD:PUBLISH
X-ORIGINAL-URL:https://www.iwra.org
X-WR-CALDESC:Events for International Water Resources Association
REFRESH-INTERVAL;VALUE=DURATION:PT1H
X-Robots-Tag:noindex
X-PUBLISHED-TTL:PT1H
BEGIN:VTIMEZONE
TZID:Europe/Paris
BEGIN:DAYLIGHT
TZOFFSETFROM:+0100
TZOFFSETTO:+0200
TZNAME:CEST
DTSTART:20180325T010000
END:DAYLIGHT
BEGIN:STANDARD
TZOFFSETFROM:+0200
TZOFFSETTO:+0100
TZNAME:CET
DTSTART:20181028T010000
END:STANDARD
BEGIN:DAYLIGHT
TZOFFSETFROM:+0100
TZOFFSETTO:+0200
TZNAME:CEST
DTSTART:20190331T010000
END:DAYLIGHT
BEGIN:STANDARD
TZOFFSETFROM:+0200
TZOFFSETTO:+0100
TZNAME:CET
DTSTART:20191027T010000
END:STANDARD
BEGIN:DAYLIGHT
TZOFFSETFROM:+0100
TZOFFSETTO:+0200
TZNAME:CEST
DTSTART:20200329T010000
END:DAYLIGHT
BEGIN:STANDARD
TZOFFSETFROM:+0200
TZOFFSETTO:+0100
TZNAME:CET
DTSTART:20201025T010000
END:STANDARD
END:VTIMEZONE
BEGIN:VEVENT
DTSTART;VALUE=DATE:20190318
DTEND;VALUE=DATE:20190323
DTSTAMP:20260424T124617
CREATED:20190121T112349Z
LAST-MODIFIED:20190121T112349Z
UID:4511-1552867200-1553299199@www.iwra.org
SUMMARY:Africa Climate Week 2019
DESCRIPTION:Africa Climate Week (ACW) 2019 will convene in the lead-up to the UN Secretary-General’s Climate Summit in September 2019\, bringing together diverse actors from the public and private sectors. Participants will focus on how engagement between Parties and non-Party stakeholders can be further strengthened in key sectors for Africa\, including energy\, agriculture and human settlements. The event will also showcase the role of future carbon markets to enhance climate action towards the goal of sustainable development\, and seek to facilitate implementation of countries’ nationally determined contributions (NDCs) under the Paris Agreement on climate change and SDG 13 (climate action)\, among other Goals. \nACW is organized by the Nairobi Framework Partnership (NFP)\, which supports developing countries in preparing and implementing their NDCs.
URL:https://www.iwra.org/event/africa-climate-week-2019/
LOCATION:Accra\, Ghana
END:VEVENT
BEGIN:VEVENT
DTSTART;VALUE=DATE:20190319
DTEND;VALUE=DATE:20190323
DTSTAMP:20260424T124617
CREATED:20190214T153428Z
LAST-MODIFIED:20190214T153428Z
UID:4581-1552953600-1553299199@www.iwra.org
SUMMARY:1st WASAG International Forum on Water Scarcity in Agriculture
DESCRIPTION:The 1st International Forum on Water Scarcity in Agriculture will be held in Praia\, Cabo Verde from 19 to 22 March 2019\, with the theme ‘Leaving no one behind’. \nThe objective of the forum is to identify practical\, innovative and collaborative solutions to address water scarcity in agriculture in a changing climate.  With a special focus on Cape Verde\, Small Island Developing States (SIDS) and West African countries\, the forum intends to illustrate how water scarcity in agriculture can be addressed and turned into an opportunity for sustainable development\, food and nutrition security\, and tackling climate change. \nThe forum is structured around six thematic areas: Water and Migration\, Drought Preparedness\, Financing Mechanisms\, Water and Nutrition\, Sustainable Agriculture Water Use and Saline Agriculture. The sessions are expected to yield lasting solutions\, shared experiences and take-home messages for addressing water scarcity in agriculture. The forum also aims to foster robust relationships among participants\, presenters and institutions for future collaborations on addressing water scarcity in various parts of the globe. \nThe forum will bring together some 200 decision-makers\, professionals\, scientists and experts from WASAG partners and stakeholders\,  regional organizations\, public and private sectors from different regions of the world with an interest in water scarcity in agriculture. \nThe outcomes of the forum will contribute to Agenda 2030 and  to several Sustainable Development Goals  (SDGs) and in particular SDG 1\,  SDG 2\, SDG 5\, SDG 6\, SDG 13\, SDG 15 and SDG 17. \nFor more information on the forum\, visit the official website.
URL:https://www.iwra.org/event/1st-wasag-international-forum-on-water-scarcity-in-agriculture/
LOCATION:Praia\, Cape Verde
END:VEVENT
BEGIN:VEVENT
DTSTART;VALUE=DATE:20190320
DTEND;VALUE=DATE:20190323
DTSTAMP:20260424T124617
CREATED:20190214T154124Z
LAST-MODIFIED:20190214T154200Z
UID:4584-1553040000-1553299199@www.iwra.org
SUMMARY:Water Korea 2019
DESCRIPTION:WATER KOREA connects People\, Technology and Industry \n\n\nKorea Water and Wastewater Works Association is an agency under the Ministry of Environment consisting of more than 170 water providers\, 300 companies\, 20 associations and local government groups. \nIt firstly began in 2002 and is an annually held fair. \nIt is a comprehensive exposition of the water industry of Korea\, comprised of a variety of events including exhibition\, seminars\, and conferences. Held in March of each year in Seoul and metropolitan cities alterately\, the exposition features most companies of the water industry in Korea and is the platform through which many companies enter the Korean market. \n\n\nKorea No.1 Water Industry Exhibition \n\n\nWATER KOREA is the first exposition created for the water industry and has become a representation of this market. \nSince its start in 2002\, each year more than 200 companies and 25\,000 people gather at the event. \n\n\nMore than 200 companies and over 25\,000 visotors participate \n\n\nEmployees from a wide range of both domestic and oversea companies and agencies participate in WATER KOREA. \nThey are actively participate in exhibitions and associated events as working in the waterworks or sewage division in all over the Korean cities including the metropolitan cities. \n\n\nThe 40% visitors are from public officials \n\n\n2019 WATER KOREA welcomes its 18th anniversary. \n\n\nA multitude of water industrial companies in Korea participate in WATER KOREA. Each year approximately 200 companies are involved in the exposition. \nThe fair becomes an avenue through which these companies provide the optimal environment to identify and exchange products. \nWATER KOREA has become the springboard for entry into the Korean market.
URL:https://www.iwra.org/event/kwwa-water-korea/
LOCATION:Daegu Metropolitan City\, Korea\, Republic of
END:VEVENT
BEGIN:VEVENT
DTSTART;VALUE=DATE:20190320
DTEND;VALUE=DATE:20190322
DTSTAMP:20260424T124617
CREATED:20190214T154346Z
LAST-MODIFIED:20190214T154346Z
UID:4587-1553040000-1553212799@www.iwra.org
SUMMARY:Water Market Europe 2019
DESCRIPTION:Water Market Europe 2019 Scope: Food & Drink Edition\n\nWater management is one of the greatest challenges facing the Food & Drink sector today\, with far-reaching implications for society\, as well as the competitiveness and sustainability of all food and drink manufacturers. Worldwide\, less and less water is going to be available for food production. Critical resources\, including water – one of the biggest risks\, is coming under increasing pressure. For this third edition\, Water Market Europe 2019 is focusing on the Food & Drink sector that covers the full water cycle and has a high impact on climate challenges.
URL:https://www.iwra.org/event/water-market-europe-2019/
LOCATION:Brussels\, Belgium
END:VEVENT
END:VCALENDAR