BEGIN:VCALENDAR
VERSION:2.0
PRODID:-//International Water Resources Association - ECPv6.15.19//NONSGML v1.0//EN
CALSCALE:GREGORIAN
METHOD:PUBLISH
X-ORIGINAL-URL:https://www.iwra.org
X-WR-CALDESC:Events for International Water Resources Association
REFRESH-INTERVAL;VALUE=DURATION:PT1H
X-Robots-Tag:noindex
X-PUBLISHED-TTL:PT1H
BEGIN:VTIMEZONE
TZID:Europe/Paris
BEGIN:DAYLIGHT
TZOFFSETFROM:+0100
TZOFFSETTO:+0200
TZNAME:CEST
DTSTART:20180325T010000
END:DAYLIGHT
BEGIN:STANDARD
TZOFFSETFROM:+0200
TZOFFSETTO:+0100
TZNAME:CET
DTSTART:20181028T010000
END:STANDARD
BEGIN:DAYLIGHT
TZOFFSETFROM:+0100
TZOFFSETTO:+0200
TZNAME:CEST
DTSTART:20190331T010000
END:DAYLIGHT
BEGIN:STANDARD
TZOFFSETFROM:+0200
TZOFFSETTO:+0100
TZNAME:CET
DTSTART:20191027T010000
END:STANDARD
BEGIN:DAYLIGHT
TZOFFSETFROM:+0100
TZOFFSETTO:+0200
TZNAME:CEST
DTSTART:20200329T010000
END:DAYLIGHT
BEGIN:STANDARD
TZOFFSETFROM:+0200
TZOFFSETTO:+0100
TZNAME:CET
DTSTART:20201025T010000
END:STANDARD
END:VTIMEZONE
BEGIN:VEVENT
DTSTART;VALUE=DATE:20190303
DTEND;VALUE=DATE:20190308
DTSTAMP:20260424T124618
CREATED:20190214T150634Z
LAST-MODIFIED:20190214T151026Z
UID:4569-1551571200-1552003199@www.iwra.org
SUMMARY:5th Arab Water Week
DESCRIPTION:Fifth Arab Water Week 2019\nTowards Sustainable Development in Water and Sanitation\n\nAccess to safe water and sanitation is essential to human health\, environmental sustainability and economic prosperity. This vital resource is under threat\, making it crucial to address the challenges related to water\, sanitation and hygiene for populations and water-related ecosystems. \nAchieving universal access to drinking water\, sanitation\, hygiene and ensuring that services are safely managed remain major challenges\, and meeting them is crucial to further progress in health\, education and poverty eradication. \nRead more about Arab Water Week (AWW)
URL:https://www.iwra.org/event/5th-arab-water-week/
LOCATION:Dead Sea\, Jordan
END:VEVENT
END:VCALENDAR