BEGIN:VCALENDAR
VERSION:2.0
PRODID:-//International Water Resources Association - ECPv6.15.19//NONSGML v1.0//EN
CALSCALE:GREGORIAN
METHOD:PUBLISH
X-ORIGINAL-URL:https://www.iwra.org
X-WR-CALDESC:Events for International Water Resources Association
REFRESH-INTERVAL;VALUE=DURATION:PT1H
X-Robots-Tag:noindex
X-PUBLISHED-TTL:PT1H
BEGIN:VTIMEZONE
TZID:Europe/Paris
BEGIN:DAYLIGHT
TZOFFSETFROM:+0100
TZOFFSETTO:+0200
TZNAME:CEST
DTSTART:20170326T010000
END:DAYLIGHT
BEGIN:STANDARD
TZOFFSETFROM:+0200
TZOFFSETTO:+0100
TZNAME:CET
DTSTART:20171029T010000
END:STANDARD
BEGIN:DAYLIGHT
TZOFFSETFROM:+0100
TZOFFSETTO:+0200
TZNAME:CEST
DTSTART:20180325T010000
END:DAYLIGHT
BEGIN:STANDARD
TZOFFSETFROM:+0200
TZOFFSETTO:+0100
TZNAME:CET
DTSTART:20181028T010000
END:STANDARD
BEGIN:DAYLIGHT
TZOFFSETFROM:+0100
TZOFFSETTO:+0200
TZNAME:CEST
DTSTART:20190331T010000
END:DAYLIGHT
BEGIN:STANDARD
TZOFFSETFROM:+0200
TZOFFSETTO:+0100
TZNAME:CET
DTSTART:20191027T010000
END:STANDARD
END:VTIMEZONE
BEGIN:VEVENT
DTSTART;VALUE=DATE:20180708
DTEND;VALUE=DATE:20180713
DTSTAMP:20260424T091646
CREATED:20180718T154316Z
LAST-MODIFIED:20180718T154316Z
UID:3648-1531008000-1531439999@www.iwra.org
SUMMARY:Singapore International Water Week (SIWW)
DESCRIPTION:  \nThe Singapore International Water Week (SIWW) is the global platform to share and co-create innovative water solutions. The biennial event gathers stakeholders from the global water industry to share best practices\, showcase the latest technologies and tap business opportunities. SIWW is part of the strategic programme of the Singapore Government to grow the water industry and develop water technologies. \nHeld in between the main SIWW editions\, the SIWW Spotlight series are exclusive by-invitation events to continue the dialogue from SIWW and foster ongoing exchanges on pressing challenges faced by the water industry worldwide. This meeting of minds focuses on critical issues and discussions in greater depth\, where the outcomes will shape the programme and content for SIWW. \nThese events are organised by Singapore International Water Week Pte Ltd\, a company set up by Singapore’s Ministry of the Environment & Water Resources and PUB\, Singapore’s National Water Agency. \nThe 8th Singapore International Water Week was held in conjunction with the 6th World Cities Summit and the 4th CleanEnviro Summit Singapore at the Sands Expo and Convention Centre\, Marina Bay Sands in Singapore.
URL:https://www.iwra.org/event/singapore-international-water-week-siww/
LOCATION:Singapore\, Singapore
END:VEVENT
BEGIN:VEVENT
DTSTART;VALUE=DATE:20180709
DTEND;VALUE=DATE:20180719
DTSTAMP:20260424T091646
CREATED:20180718T153217Z
LAST-MODIFIED:20180718T153217Z
UID:3639-1531094400-1531958399@www.iwra.org
SUMMARY:High-Level Political Forum 2018
DESCRIPTION:The High-Level Political Forum (HLPF) on sustainable development met from Monday\, 9 July\, to Wednesday\, 18 July 2018 under the theme “Transformation towards sustainable and resilient societies”. The ministerial meeting of the forum was from Monday\, 16 July\, to Wednesday\, 18 July 2018. \nThe HLPF also reviewed progress towards the SDGS and focused particular on: \n\nGoal 6. Ensure availability and sustainable management of water and sanitation for all\nGoal 7. Ensure access to affordable\, reliable\, sustainable and modern energy for all\nGoal 11. Make cities and human settlements inclusive\, safe\, resilient and sustainable\nGoal 12. Ensure sustainable consumption and production patterns\nGoal 15. Protect\, restore and promote sustainable use of terrestrial ecosystems\, sustainably manage forests\, combat desertification\, and halt and reverse land degradation and halt biodiversity loss\nGoal 17. Strengthen the means of implementation and revitalize the Global Partnership for Sustainable Development\, that will be considered each year\n\n47 countries carried out Voluntary National Reviews during the ministerial meetings. \nVarious meetings and forums were held to prepare the HLPF and multiple inputs were provided. Special events\, side events\, a VNR Lab and other meetings were held during the HLPF. \nThe meeting adopted a ministerial declaration. Please click here to read the HLPF blog.
URL:https://www.iwra.org/event/high-level-political-forum-2018-2/
LOCATION:New York City\, New York\, United States
END:VEVENT
BEGIN:VEVENT
DTSTART;VALUE=DATE:20180709
DTEND;VALUE=DATE:20180712
DTSTAMP:20260424T091646
CREATED:20180718T153806Z
LAST-MODIFIED:20180718T153913Z
UID:3643-1531094400-1531353599@www.iwra.org
SUMMARY:AWRA Conference on the Science\, Management and Governance of Transboundary Groundwater
DESCRIPTION:AWRA’s Conference on the Science\, Management and Governance of Transboundary Groundwater simply stated\, transboundary groundwater is groundwater that crosses jurisdictional/political boundaries\, be they boundaries between nations\, states\, provinces\, counties\, management districts\, reservations\, etc.  IWRA’s Treasurer\, Renée Martin-Nagle\, presented her work on “Transboundary Offshore Freshwater\, Which Law Will Apply?”.
URL:https://www.iwra.org/event/awra-conference-on-the-science-management-and-governance-of-transboundary-groundwater/
LOCATION:Texas\, United States
END:VEVENT
END:VCALENDAR